Package: ChIPexoQual Version: 1.34.0 Command: rm -rf ChIPexoQual.buildbin-libdir && mkdir ChIPexoQual.buildbin-libdir && /Users/biocbuild/BBS/utils/build-universal.sh ChIPexoQual_1.34.0.tar.gz /Library/Frameworks/R.framework/Resources/bin/R ChIPexoQual.buildbin-libdir StartedAt: 2025-11-10 23:14:33 -0500 (Mon, 10 Nov 2025) EndedAt: 2025-11-10 23:14:52 -0500 (Mon, 10 Nov 2025) EllapsedTime: 19.3 seconds RetCode: 0 Status: OK PackageFile: ChIPexoQual_1.34.0.tgz PackageFileSize: 2.524 MiB