Package: ChIPanalyser Version: 1.31.0 Command: /home/biocbuild/bbs-3.22-bioc/R/bin/R CMD build --keep-empty-dirs --no-resave-data --md5 ChIPanalyser StartedAt: 2025-10-27 16:49:32 -0400 (Mon, 27 Oct 2025) EndedAt: 2025-10-27 17:05:21 -0400 (Mon, 27 Oct 2025) EllapsedTime: 948.9 seconds RetCode: 0 Status: OK PackageFile: ChIPanalyser_1.31.0.tar.gz PackageFileSize: 1.006 MiB