Package: ChIPanalyser Version: 1.32.0 Command: /Library/Frameworks/R.framework/Resources/bin/R CMD build --keep-empty-dirs --no-resave-data ChIPanalyser StartedAt: 2025-11-10 15:55:02 -0500 (Mon, 10 Nov 2025) EndedAt: 2025-11-10 16:01:09 -0500 (Mon, 10 Nov 2025) EllapsedTime: 367.2 seconds RetCode: 0 Status: OK PackageFile: ChIPanalyser_1.32.0.tar.gz PackageFileSize: 1.223 MiB