Package: ChIPXpress Version: 1.53.0 Command: /home/biocbuild/bbs-3.22-bioc/R/bin/R CMD INSTALL ChIPXpress StartedAt: 2025-10-27 16:03:42 -0400 (Mon, 27 Oct 2025) EndedAt: 2025-10-27 16:04:11 -0400 (Mon, 27 Oct 2025) EllapsedTime: 28.4 seconds RetCode: 0 Status: OK