Package: ChIPXpress Version: 1.54.0 Command: /Library/Frameworks/R.framework/Resources/bin/R CMD INSTALL ChIPXpress StartedAt: 2025-11-03 15:55:53 -0500 (Mon, 03 Nov 2025) EndedAt: 2025-11-03 15:56:31 -0500 (Mon, 03 Nov 2025) EllapsedTime: 38.1 seconds RetCode: 0 Status: OK