Package: ChIPXpress Version: 1.54.0 Command: /Library/Frameworks/R.framework/Resources/bin/R CMD build --keep-empty-dirs --no-resave-data ChIPXpress StartedAt: 2025-11-03 16:27:39 -0500 (Mon, 03 Nov 2025) EndedAt: 2025-11-03 16:28:37 -0500 (Mon, 03 Nov 2025) EllapsedTime: 58.1 seconds RetCode: 0 Status: OK PackageFile: ChIPXpress_1.54.0.tar.gz PackageFileSize: 447.6 KiB