Package: ChIPXpress Version: 1.54.0 Command: rm -rf ChIPXpress.buildbin-libdir && mkdir ChIPXpress.buildbin-libdir && /Users/biocbuild/BBS/utils/build-universal.sh ChIPXpress_1.54.0.tar.gz /Library/Frameworks/R.framework/Resources/bin/R ChIPXpress.buildbin-libdir StartedAt: 2025-11-04 01:32:28 -0500 (Tue, 04 Nov 2025) EndedAt: 2025-11-04 01:33:11 -0500 (Tue, 04 Nov 2025) EllapsedTime: 42.7 seconds RetCode: 0 Status: OK PackageFile: ChIPXpress_1.54.0.tgz PackageFileSize: 471.2 KiB