Package: ChIPXpress Version: 1.53.0 Command: /Library/Frameworks/R.framework/Resources/bin/R CMD INSTALL ChIPXpress StartedAt: 2025-10-27 15:32:18 -0400 (Mon, 27 Oct 2025) EndedAt: 2025-10-27 15:32:31 -0400 (Mon, 27 Oct 2025) EllapsedTime: 12.3 seconds RetCode: 0 Status: OK