Package: ChIPXpress Version: 1.54.0 Maintainer: George Wu MaintainerEmail: georgetwu at gmail.com git_url: https://git.bioconductor.org/packages/ChIPXpress git_branch: RELEASE_3_22 git_last_commit: 3886eb0 git_last_commit_date: 2025-10-29 10:11:43 -0500 (Wed, 29 Oct 2025)