Package: ChIPQC Version: 1.45.0 Command: /home/biocbuild/bbs-3.22-bioc/R/bin/R CMD INSTALL ChIPQC StartedAt: 2025-10-27 16:09:53 -0400 (Mon, 27 Oct 2025) EndedAt: 2025-10-27 16:09:54 -0400 (Mon, 27 Oct 2025) EllapsedTime: 0.2 seconds RetCode: 1 Status: ERROR