Package: ChIPQC Version: 1.45.0 Command: /Library/Frameworks/R.framework/Resources/bin/R CMD INSTALL ChIPQC StartedAt: 2025-10-27 15:35:06 -0400 (Mon, 27 Oct 2025) EndedAt: 2025-10-27 15:35:06 -0400 (Mon, 27 Oct 2025) EllapsedTime: 0.1 seconds RetCode: 1 Status: ERROR