Package: ChIPQC Version: 1.45.0 Command: /Library/Frameworks/R.framework/Resources/bin/R CMD build --keep-empty-dirs --no-resave-data ChIPQC StartedAt: 2025-10-27 15:55:25 -0400 (Mon, 27 Oct 2025) EndedAt: 2025-10-27 15:55:26 -0400 (Mon, 27 Oct 2025) EllapsedTime: 1.0 seconds RetCode: 1 Status: ERROR PackageFile: None PackageFileSize: NA