Package: ChIPComp Version: 1.39.1 Command: /home/biocbuild/bbs-3.22-bioc/R/bin/R CMD INSTALL ChIPComp StartedAt: 2025-10-24 15:45:13 -0400 (Fri, 24 Oct 2025) EndedAt: 2025-10-24 15:45:44 -0400 (Fri, 24 Oct 2025) EllapsedTime: 30.2 seconds RetCode: 0 Status: OK