Package: ChIPComp Version: 1.39.1 Command: /home/biocbuild/bbs-3.22-bioc/R/bin/R CMD check --install=check:ChIPComp.install-out.txt --library=/home/biocbuild/bbs-3.22-bioc/R/site-library --timings ChIPComp_1.39.1.tar.gz StartedAt: 2025-10-24 22:08:14 -0400 (Fri, 24 Oct 2025) EndedAt: 2025-10-24 22:12:31 -0400 (Fri, 24 Oct 2025) EllapsedTime: 257.2 seconds RetCode: 0 Status: OK CheckDir: ChIPComp.Rcheck Warnings: 0