Package: ChIPComp Version: 1.39.1 Command: /Library/Frameworks/R.framework/Resources/bin/R CMD INSTALL ChIPComp StartedAt: 2025-10-24 15:40:28 -0400 (Fri, 24 Oct 2025) EndedAt: 2025-10-24 15:41:11 -0400 (Fri, 24 Oct 2025) EllapsedTime: 43.2 seconds RetCode: 0 Status: OK