Package: ChIPComp Version: 1.39.1 Command: /Library/Frameworks/R.framework/Resources/bin/R CMD build --keep-empty-dirs --no-resave-data ChIPComp StartedAt: 2025-10-24 16:30:41 -0400 (Fri, 24 Oct 2025) EndedAt: 2025-10-24 16:31:46 -0400 (Fri, 24 Oct 2025) EllapsedTime: 65.0 seconds RetCode: 0 Status: OK PackageFile: ChIPComp_1.39.1.tar.gz PackageFileSize: 595.7 KiB