Package: CexoR Version: 1.47.1 Command: /home/biocbuild/bbs-3.22-bioc/R/bin/R CMD build --keep-empty-dirs --no-resave-data --md5 CexoR StartedAt: 2025-10-24 16:55:31 -0400 (Fri, 24 Oct 2025) EndedAt: 2025-10-24 16:56:31 -0400 (Fri, 24 Oct 2025) EllapsedTime: 60.1 seconds RetCode: 0 Status: OK PackageFile: CexoR_1.47.1.tar.gz PackageFileSize: 1.661 MiB