Package: CexoR Version: 1.47.1 Command: /Library/Frameworks/R.framework/Resources/bin/R CMD build --keep-empty-dirs --no-resave-data CexoR StartedAt: 2025-10-26 15:54:39 -0400 (Sun, 26 Oct 2025) EndedAt: 2025-10-26 15:55:03 -0400 (Sun, 26 Oct 2025) EllapsedTime: 24.3 seconds RetCode: 0 Status: OK PackageFile: CexoR_1.47.1.tar.gz PackageFileSize: 1.659 MiB