Package: CelliD Version: 1.17.0 Command: /home/biocbuild/bbs-3.22-bioc/R/bin/R CMD INSTALL CelliD StartedAt: 2025-10-24 16:05:18 -0400 (Fri, 24 Oct 2025) EndedAt: 2025-10-24 16:06:28 -0400 (Fri, 24 Oct 2025) EllapsedTime: 70.0 seconds RetCode: 0 Status: OK