Package: CelliD Version: 1.17.0 Command: /home/biocbuild/bbs-3.22-bioc/R/bin/R CMD build --keep-empty-dirs --no-resave-data --md5 CelliD StartedAt: 2025-10-24 16:51:30 -0400 (Fri, 24 Oct 2025) EndedAt: 2025-10-24 17:01:23 -0400 (Fri, 24 Oct 2025) EllapsedTime: 593.5 seconds RetCode: 0 Status: OK PackageFile: CelliD_1.17.0.tar.gz PackageFileSize: 2.507 MiB