Package: CelliD Version: 1.18.0 Command: /Library/Frameworks/R.framework/Resources/bin/R CMD INSTALL CelliD StartedAt: 2025-10-31 15:33:17 -0400 (Fri, 31 Oct 2025) EndedAt: 2025-10-31 15:33:45 -0400 (Fri, 31 Oct 2025) EllapsedTime: 27.9 seconds RetCode: 0 Status: OK