Package: CelliD Version: 1.18.0 Command: /Library/Frameworks/R.framework/Resources/bin/R CMD build --keep-empty-dirs --no-resave-data CelliD StartedAt: 2025-10-31 15:56:05 -0400 (Fri, 31 Oct 2025) EndedAt: 2025-10-31 16:01:13 -0400 (Fri, 31 Oct 2025) EllapsedTime: 308.5 seconds RetCode: 0 Status: OK PackageFile: CelliD_1.18.0.tar.gz PackageFileSize: 2.576 MiB