Package: CellTrails Version: 1.27.1 Command: rm -rf CellTrails.buildbin-libdir && mkdir CellTrails.buildbin-libdir && /Users/biocbuild/BBS/utils/build-universal.sh CellTrails_1.27.1.tar.gz /Library/Frameworks/R.framework/Resources/bin/R CellTrails.buildbin-libdir StartedAt: 2025-10-25 01:31:52 -0400 (Sat, 25 Oct 2025) EndedAt: 2025-10-25 01:32:37 -0400 (Sat, 25 Oct 2025) EllapsedTime: 45.1 seconds RetCode: 0 Status: OK PackageFile: CellTrails_1.27.1.tgz PackageFileSize: 3.008 MiB