Package: CellTrails Version: 1.27.1 Command: /Library/Frameworks/R.framework/Resources/bin/R CMD INSTALL CellTrails StartedAt: 2025-10-24 15:14:45 -0400 (Fri, 24 Oct 2025) EndedAt: 2025-10-24 15:14:57 -0400 (Fri, 24 Oct 2025) EllapsedTime: 12.6 seconds RetCode: 0 Status: OK