Package: CellTrails Version: 1.27.1 Command: /Library/Frameworks/R.framework/Resources/bin/R CMD build --keep-empty-dirs --no-resave-data CellTrails StartedAt: 2025-10-24 15:56:02 -0400 (Fri, 24 Oct 2025) EndedAt: 2025-10-24 15:56:19 -0400 (Fri, 24 Oct 2025) EllapsedTime: 17.2 seconds RetCode: 0 Status: OK PackageFile: CellTrails_1.27.1.tar.gz PackageFileSize: 2.628 MiB