Package: CellScore Version: 1.29.1 Command: /Library/Frameworks/R.framework/Resources/bin/R CMD INSTALL CellScore StartedAt: 2025-10-24 15:27:49 -0400 (Fri, 24 Oct 2025) EndedAt: 2025-10-24 15:28:17 -0400 (Fri, 24 Oct 2025) EllapsedTime: 28.1 seconds RetCode: 0 Status: OK