Package: CellScore Version: 1.29.1 Command: /Library/Frameworks/R.framework/Resources/bin/R CMD build --keep-empty-dirs --no-resave-data CellScore StartedAt: 2025-10-24 15:55:59 -0400 (Fri, 24 Oct 2025) EndedAt: 2025-10-24 15:57:05 -0400 (Fri, 24 Oct 2025) EllapsedTime: 66.7 seconds RetCode: 1 Status: ERROR PackageFile: None PackageFileSize: NA