Package: CellScore Version: 1.29.1 Maintainer: Nancy Mah MaintainerEmail: nancy.l.mah at googlemail.com git_url: https://git.bioconductor.org/packages/CellScore git_branch: devel git_last_commit: ec8b968 git_last_commit_date: 2025-07-24 08:10:50 -0400 (Thu, 24 Jul 2025)