Package: CellNOptR Version: 1.56.0 Command: /home/biocbuild/R/R/bin/R CMD INSTALL CellNOptR StartedAt: 2025-11-24 21:20:16 -0000 (Mon, 24 Nov 2025) EndedAt: 2025-11-24 21:20:39 -0000 (Mon, 24 Nov 2025) EllapsedTime: 22.3 seconds RetCode: 0 Status: OK