Package: CellNOptR Version: 1.56.0 Command: /home/biocbuild/R/R/bin/R CMD build --keep-empty-dirs --no-resave-data CellNOptR StartedAt: 2025-11-25 00:21:41 -0000 (Tue, 25 Nov 2025) EndedAt: 2025-11-25 00:22:19 -0000 (Tue, 25 Nov 2025) EllapsedTime: 38.0 seconds RetCode: 0 Status: OK PackageFile: CellNOptR_1.56.0.tar.gz PackageFileSize: 3.323 MiB