Package: CellNOptR Version: 1.55.0 Command: /home/biocbuild/bbs-3.22-bioc/R/bin/R CMD INSTALL CellNOptR StartedAt: 2025-10-24 15:25:24 -0400 (Fri, 24 Oct 2025) EndedAt: 2025-10-24 15:25:39 -0400 (Fri, 24 Oct 2025) EllapsedTime: 15.3 seconds RetCode: 0 Status: OK