Package: CellNOptR Version: 1.56.0 Command: /home/biocbuild/bbs-3.22-bioc/R/bin/R CMD check --install=check:CellNOptR.install-out.txt --library=/home/biocbuild/bbs-3.22-bioc/R/site-library --timings CellNOptR_1.56.0.tar.gz StartedAt: 2025-11-14 22:03:21 -0500 (Fri, 14 Nov 2025) EndedAt: 2025-11-14 22:05:21 -0500 (Fri, 14 Nov 2025) EllapsedTime: 120.1 seconds RetCode: 0 Status: OK CheckDir: CellNOptR.Rcheck Warnings: 0