Package: CellNOptR Version: 1.55.0 Command: /home/biocbuild/bbs-3.22-bioc/R/bin/R CMD build --keep-empty-dirs --no-resave-data --md5 CellNOptR StartedAt: 2025-10-24 16:53:16 -0400 (Fri, 24 Oct 2025) EndedAt: 2025-10-24 16:53:43 -0400 (Fri, 24 Oct 2025) EllapsedTime: 27.0 seconds RetCode: 0 Status: OK PackageFile: CellNOptR_1.55.0.tar.gz PackageFileSize: 3.54 MiB