Package: CellNOptR Version: 1.55.0 Command: /Library/Frameworks/R.framework/Resources/bin/R CMD INSTALL CellNOptR StartedAt: 2025-10-24 15:26:42 -0400 (Fri, 24 Oct 2025) EndedAt: 2025-10-24 15:27:06 -0400 (Fri, 24 Oct 2025) EllapsedTime: 23.9 seconds RetCode: 0 Status: OK