Package: CellNOptR Version: 1.55.0 Command: /Library/Frameworks/R.framework/Resources/bin/R CMD INSTALL CellNOptR StartedAt: 2025-10-27 15:08:00 -0400 (Mon, 27 Oct 2025) EndedAt: 2025-10-27 15:08:06 -0400 (Mon, 27 Oct 2025) EllapsedTime: 5.9 seconds RetCode: 0 Status: OK