Package: CellNOptR Version: 1.55.0 Command: /Library/Frameworks/R.framework/Resources/bin/R CMD build --keep-empty-dirs --no-resave-data CellNOptR StartedAt: 2025-10-26 15:53:33 -0400 (Sun, 26 Oct 2025) EndedAt: 2025-10-26 15:53:44 -0400 (Sun, 26 Oct 2025) EllapsedTime: 11.1 seconds RetCode: 0 Status: OK PackageFile: CellNOptR_1.55.0.tar.gz PackageFileSize: 3.59 MiB