Package: CellNOptR Version: 1.55.0 Command: rm -rf CellNOptR.buildbin-libdir && mkdir CellNOptR.buildbin-libdir && /Users/biocbuild/BBS/utils/build-universal.sh CellNOptR_1.55.0.tar.gz /Library/Frameworks/R.framework/Resources/bin/R CellNOptR.buildbin-libdir StartedAt: 2025-10-26 22:31:24 -0400 (Sun, 26 Oct 2025) EndedAt: 2025-10-26 22:31:31 -0400 (Sun, 26 Oct 2025) EllapsedTime: 7.2 seconds RetCode: 0 Status: OK PackageFile: CellNOptR_1.55.0.tgz PackageFileSize: 2.891 MiB