Package: CellMixS Version: 1.25.1 Command: /home/biocbuild/bbs-3.22-bioc/R/bin/R CMD check --install=check:CellMixS.install-out.txt --library=/home/biocbuild/bbs-3.22-bioc/R/site-library --timings CellMixS_1.25.1.tar.gz StartedAt: 2025-10-24 22:01:13 -0400 (Fri, 24 Oct 2025) EndedAt: 2025-10-24 22:07:24 -0400 (Fri, 24 Oct 2025) EllapsedTime: 371.4 seconds RetCode: 0 Status: OK CheckDir: CellMixS.Rcheck Warnings: 0