Package: CellMixS Version: 1.25.1 Command: /Library/Frameworks/R.framework/Resources/bin/R CMD build --keep-empty-dirs --no-resave-data CellMixS StartedAt: 2025-10-24 16:27:40 -0400 (Fri, 24 Oct 2025) EndedAt: 2025-10-24 16:30:34 -0400 (Fri, 24 Oct 2025) EllapsedTime: 174.4 seconds RetCode: 0 Status: OK PackageFile: CellMixS_1.25.1.tar.gz PackageFileSize: 4.11 MiB