Package: CellMixS Version: 1.25.1 Command: rm -rf CellMixS.buildbin-libdir && mkdir CellMixS.buildbin-libdir && /Users/biocbuild/BBS/utils/build-universal.sh CellMixS_1.25.1.tar.gz /Library/Frameworks/R.framework/Resources/bin/R CellMixS.buildbin-libdir StartedAt: 2025-10-25 01:31:48 -0400 (Sat, 25 Oct 2025) EndedAt: 2025-10-25 01:32:28 -0400 (Sat, 25 Oct 2025) EllapsedTime: 40.6 seconds RetCode: 0 Status: OK PackageFile: CellMixS_1.25.1.tgz PackageFileSize: 4.198 MiB