Package: CellMixS Version: 1.25.1 Command: /Library/Frameworks/R.framework/Resources/bin/R CMD build --keep-empty-dirs --no-resave-data CellMixS StartedAt: 2025-10-26 15:53:29 -0400 (Sun, 26 Oct 2025) EndedAt: 2025-10-26 15:54:18 -0400 (Sun, 26 Oct 2025) EllapsedTime: 48.5 seconds RetCode: 0 Status: OK PackageFile: CellMixS_1.25.1.tar.gz PackageFileSize: 4.124 MiB