Package: CellMixS Version: 1.25.1 Maintainer: Almut Lütge MaintainerEmail: almut.lue at gmail.com git_url: https://git.bioconductor.org/packages/CellMixS git_branch: devel git_last_commit: 8bd27b2 git_last_commit_date: 2025-10-14 14:32:16 -0400 (Tue, 14 Oct 2025)