Package: CellMapper Version: 1.35.0 Command: /home/biocbuild/R/R/bin/R CMD build --keep-empty-dirs --no-resave-data CellMapper StartedAt: 2025-10-20 22:33:24 -0000 (Mon, 20 Oct 2025) EndedAt: 2025-10-20 22:35:27 -0000 (Mon, 20 Oct 2025) EllapsedTime: 123.0 seconds RetCode: 0 Status: OK PackageFile: CellMapper_1.35.0.tar.gz PackageFileSize: 199.5 KiB