Package: CellMapper Version: 1.35.0 Command: /home/biocbuild/bbs-3.22-bioc/R/bin/R CMD check --install=check:CellMapper.install-out.txt --library=/home/biocbuild/bbs-3.22-bioc/R/site-library --timings CellMapper_1.35.0.tar.gz StartedAt: 2025-10-24 21:59:40 -0400 (Fri, 24 Oct 2025) EndedAt: 2025-10-24 22:03:47 -0400 (Fri, 24 Oct 2025) EllapsedTime: 246.2 seconds RetCode: 0 Status: WARNINGS CheckDir: CellMapper.Rcheck Warnings: 1