Package: CellMapper Version: 1.35.0 Command: /home/biocbuild/bbs-3.22-bioc/R/bin/R CMD build --keep-empty-dirs --no-resave-data --md5 CellMapper StartedAt: 2025-10-24 16:51:54 -0400 (Fri, 24 Oct 2025) EndedAt: 2025-10-24 16:53:33 -0400 (Fri, 24 Oct 2025) EllapsedTime: 99.0 seconds RetCode: 0 Status: OK PackageFile: CellMapper_1.35.0.tar.gz PackageFileSize: 206.7 KiB