Package: CellMapper Version: 1.35.0 Command: /Library/Frameworks/R.framework/Resources/bin/R CMD build --keep-empty-dirs --no-resave-data CellMapper StartedAt: 2025-10-24 16:27:30 -0400 (Fri, 24 Oct 2025) EndedAt: 2025-10-24 16:29:09 -0400 (Fri, 24 Oct 2025) EllapsedTime: 99.1 seconds RetCode: 0 Status: OK PackageFile: CellMapper_1.35.0.tar.gz PackageFileSize: 205.1 KiB