Package: CellMapper Version: 1.35.0 Command: /Library/Frameworks/R.framework/Resources/bin/R CMD INSTALL CellMapper StartedAt: 2025-10-26 15:06:47 -0400 (Sun, 26 Oct 2025) EndedAt: 2025-10-26 15:06:50 -0400 (Sun, 26 Oct 2025) EllapsedTime: 2.5 seconds RetCode: 0 Status: OK