Package: CellBench Version: 1.26.0 Command: /home/biocbuild/R/R/bin/R CMD build --keep-empty-dirs --no-resave-data CellBench StartedAt: 2025-11-25 00:19:59 -0000 (Tue, 25 Nov 2025) EndedAt: 2025-11-25 00:21:11 -0000 (Tue, 25 Nov 2025) EllapsedTime: 72.0 seconds RetCode: 0 Status: OK PackageFile: CellBench_1.26.0.tar.gz PackageFileSize: 3.08 MiB