Package: CellBench Version: 1.25.1 Command: /home/biocbuild/bbs-3.22-bioc/R/bin/R CMD INSTALL CellBench StartedAt: 2025-10-24 16:08:22 -0400 (Fri, 24 Oct 2025) EndedAt: 2025-10-24 16:08:49 -0400 (Fri, 24 Oct 2025) EllapsedTime: 27.3 seconds RetCode: 0 Status: OK