Package: CellBench Version: 1.25.1 Command: /home/biocbuild/bbs-3.22-bioc/R/bin/R CMD check --install=check:CellBench.install-out.txt --library=/home/biocbuild/bbs-3.22-bioc/R/site-library --timings CellBench_1.25.1.tar.gz StartedAt: 2025-10-24 21:58:59 -0400 (Fri, 24 Oct 2025) EndedAt: 2025-10-24 22:03:44 -0400 (Fri, 24 Oct 2025) EllapsedTime: 284.2 seconds RetCode: 0 Status: OK CheckDir: CellBench.Rcheck Warnings: 0